BEGIN:VCALENDAR
VERSION:2.0
CALSCALE:GREGORIAN
PRODID:-//Diputació de Barcelona//DibaCMS//EN
BEGIN:VEVENT
UID:5788
DTSTAMP:20260420T031459
DTSTART:20231016T110000
DTEND:20231022T200000
SUMMARY:SETMANA DE LA LACTÀNCIA - Del 16 al 22 d'octubre
LOCATION:
METHOD:PUBLISH
X-WR-CALNAME:ullastrell@ullastrell.cat
X-WR-TIMEZONE:Europe/Madrid
DESCRIPTION:Una setmana plena d'activitats vinculada a la Lactància Materna: xerrades i trobades, contes, jocs i molt més!

URI:https://www.ullastrell.cat/actualitat/agenda/setmana-de-la-lactancia-del-16-al-22-doctubre.html
CLASS:PUBLIC
END:VEVENT
END:VCALENDAR
