BEGIN:VCALENDAR
VERSION:2.0
CALSCALE:GREGORIAN
PRODID:-//Diputació de Barcelona//DibaCMS//EN
BEGIN:VEVENT
UID:5792
DTSTAMP:20260420T025400
DTSTART:20231103T180000
DTEND:20231103T200000
SUMMARY:TERROR A L'ESPAI JOVE
LOCATION:Plaça de les escoles, 1 08231 Ullastrell
METHOD:PUBLISH
X-WR-CALNAME:ullastrell@ullastrell.cat
X-WR-TIMEZONE:Europe/Madrid
DESCRIPTION:Vine amb els teus amics i amigues a passar una tarda de por a l’Espai Jove d’Ullastrell. Pots portar el teu berenar!

URI:https://www.ullastrell.cat/actualitat/agenda/terror-a-lespai-jove.html
CLASS:PUBLIC
END:VEVENT
END:VCALENDAR
