BEGIN:VCALENDAR
VERSION:2.0
CALSCALE:GREGORIAN
PRODID:-//Diputació de Barcelona//DibaCMS//EN
BEGIN:VEVENT
UID:5793
DTSTAMP:20260420T041344
DTSTART:20231105T183000
DTEND:20231105T200000
SUMMARY:MOSTRA DE TEATRE
LOCATION:C/ Josep Fornell, s/n 08231 Ullastrell
METHOD:PUBLISH
X-WR-CALNAME:ullastrell@ullastrell.cat
X-WR-TIMEZONE:Europe/Madrid
DESCRIPTION:Mostra de teatre

Comença la temporada teatral a Ullastrell. No us ho perdeu!

URI:https://www.ullastrell.cat/actualitat/agenda/5793-mostra-de-teatre.html
CLASS:PUBLIC
END:VEVENT
END:VCALENDAR
