BEGIN:VCALENDAR
VERSION:2.0
CALSCALE:GREGORIAN
PRODID:-//Diputació de Barcelona//DibaCMS//EN
BEGIN:VEVENT
UID:5794
DTSTAMP:20260420T043700
DTSTART:20231109T180000
DTEND:20231109T190000
SUMMARY:Club de lectura amb Rosa Massagué 
LOCATION:C/ Josep Fornell, s/n 08231 Ullastrell
METHOD:PUBLISH
X-WR-CALNAME:ullastrell@ullastrell.cat
X-WR-TIMEZONE:Europe/Madrid
DESCRIPTION:Club de lectura amb Rosa Massagué

 

En aquesta sessió comentarem "L’acabadora", de Michela Murgia.

URI:https://www.ullastrell.cat/actualitat/agenda/club-de-lectura-amb-rosa-massague-.html
CLASS:PUBLIC
END:VEVENT
END:VCALENDAR
