BEGIN:VCALENDAR
VERSION:2.0
CALSCALE:GREGORIAN
PRODID:-//Diputació de Barcelona//DibaCMS//EN
BEGIN:VEVENT
UID:5795
DTSTAMP:20260420T071213
DTSTART:20231113T170000
DTEND:20231113T190000
SUMMARY:Taller de Sashiko
LOCATION:C/ Josep Fornell, s/n 08231 Ullastrell
METHOD:PUBLISH
X-WR-CALNAME:ullastrell@ullastrell.cat
X-WR-TIMEZONE:Europe/Madrid
DESCRIPTION:Taller de Sashiko

Taller creatiu per aprendre la tècnica japonesa del brodat sashiko.

Crearem un esquema senzill i aprendrem les puntades per fer-nos un punt de llibre amb aquesta tècnica.

URI:https://www.ullastrell.cat/actualitat/agenda/taller-de-sashiko.html
CLASS:PUBLIC
END:VEVENT
END:VCALENDAR
