BEGIN:VCALENDAR
VERSION:2.0
CALSCALE:GREGORIAN
PRODID:-//Diputació de Barcelona//DibaCMS//EN
BEGIN:VEVENT
UID:5796
DTSTAMP:20260420T053611
DTSTART:20231115T170000
DTEND:20231115T180000
SUMMARY:FABULÒRUM 
LOCATION:C/ Josep Fornell, s/n 08231 Ullastrell
METHOD:PUBLISH
X-WR-CALNAME:ullastrell@ullastrell.cat
X-WR-TIMEZONE:Europe/Madrid
DESCRIPTION:Fabulòrum

Gaudirem d'una proposta de narració i arts del moviment per assaborir les faules de sempre.

 

URI:https://www.ullastrell.cat/actualitat/agenda/fabulorum-.html
CLASS:PUBLIC
END:VEVENT
END:VCALENDAR
