BEGIN:VCALENDAR
VERSION:2.0
CALSCALE:GREGORIAN
PRODID:-//Diputació de Barcelona//DibaCMS//EN
BEGIN:VEVENT
UID:5797
DTSTAMP:20260420T025300
DTSTART:20231117T200000
DTEND:20231117T210000
SUMMARY:Espectacle "Si, però no exactament", de Sandra Rossi
LOCATION:C/ Josep Fornell, s/n 08231 Ullastrell
METHOD:PUBLISH
X-WR-CALNAME:ullastrell@ullastrell.cat
X-WR-TIMEZONE:Europe/Madrid
DESCRIPTION:Espectacle "Si, però no exactament", de Sandra Rossi

Un espectacle farcit d’humor, de tendresa i de sinceritat on la Sandra Rossi ens mostra les seves increïbles capacitats de comunicar-se amb el públic: canta, balla i interpreta quinze personatges però sobretot, comparteix des del cor retalls de la seva vida. I en acabar la funció la gent es pregunta: “Però…tot això és veritat?”.

URI:https://www.ullastrell.cat/actualitat/agenda/espectacle-si-pero-no-exactament-de-sandra-rossi.html
CLASS:PUBLIC
END:VEVENT
END:VCALENDAR
