BEGIN:VCALENDAR
VERSION:2.0
CALSCALE:GREGORIAN
PRODID:-//Diputació de Barcelona//DibaCMS//EN
BEGIN:VEVENT
UID:5798
DTSTAMP:20260420T031649
DTSTART:20231027T170000
DTEND:20231027T180000
SUMMARY:Creem personatges de còmic
LOCATION:C/ Josep Fornell, s/n 08231 Ullastrell
METHOD:PUBLISH
X-WR-CALNAME:ullastrell@ullastrell.cat
X-WR-TIMEZONE:Europe/Madrid
DESCRIPTION:Creem personatges de còmic

Crearem un monstre i un robot de la mà dels reconeguts autors dels llibres de còmic de la col·lecció Agus & Monstres i Bitmax & Co. 

URI:https://www.ullastrell.cat/actualitat/agenda/creem-personatges-de-comic.html
CLASS:PUBLIC
END:VEVENT
END:VCALENDAR
