BEGIN:VCALENDAR
VERSION:2.0
CALSCALE:GREGORIAN
PRODID:-//Diputació de Barcelona//DibaCMS//EN
BEGIN:VEVENT
UID:5799
DTSTAMP:20260420T025004
DTSTART:20231121T173000
DTEND:20231121T183000
SUMMARY:IOGA EN FAMÍLIA  
LOCATION:C/ Josep Fornell, s/n 08231 Ullastrell
METHOD:PUBLISH
X-WR-CALNAME:ullastrell@ullastrell.cat
X-WR-TIMEZONE:Europe/Madrid
DESCRIPTION:Ioga en família

Compartim una estona amb els infants fent Ioga. Aprenem a sentir la respiració, el nostre cos, a confiar en qui ens sosté, a cooperar per crear una postura, a trobar l'equilibri, a centrar-nos i relaxar-nos en família.

 

URI:https://www.ullastrell.cat/actualitat/agenda/5799-ioga-en-familia-.html
CLASS:PUBLIC
END:VEVENT
END:VCALENDAR
