BEGIN:VCALENDAR
VERSION:2.0
CALSCALE:GREGORIAN
PRODID:-//Diputació de Barcelona//DibaCMS//EN
BEGIN:VEVENT
UID:5801
DTSTAMP:20260420T113432
DTSTART:20231129T180000
DTEND:20231129T190000
SUMMARY:Xerrada: Entrenament de la força per millorar la qualitat de vida
LOCATION:C/ Josep Fornell, s/n 08231 Ullastrell
METHOD:PUBLISH
X-WR-CALNAME:ullastrell@ullastrell.cat
X-WR-TIMEZONE:Europe/Madrid
DESCRIPTION:Xerrada: Entrenament de la força per millorar la qualitat de vida

Ens acostarem als beneficis de millorar la força amb Sergi Martin Gómez. graduat en Activitat física i esports, i especialista en el sistema neuromuscular, format als E.E.U.U.

URI:https://www.ullastrell.cat/actualitat/agenda/xerrada-entrenament-de-la-forca-per-millorar-la-qualitat-de-vida.html
CLASS:PUBLIC
END:VEVENT
END:VCALENDAR
