BEGIN:VCALENDAR
VERSION:2.0
CALSCALE:GREGORIAN
PRODID:-//Diputació de Barcelona//DibaCMS//EN
BEGIN:VEVENT
UID:5808
DTSTAMP:20260420T014842
DTSTART:20231217T183000
DTEND:20231217T200000
SUMMARY:MOSTRA DE TEATRE 
LOCATION:C/ Josep Fornell, s/n 08231 Ullastrell
METHOD:PUBLISH
X-WR-CALNAME:ullastrell@ullastrell.cat
X-WR-TIMEZONE:Europe/Madrid
DESCRIPTION:Mostra de teatre

 

URI:https://www.ullastrell.cat/actualitat/agenda/mostra-de-teatre-.html
CLASS:PUBLIC
END:VEVENT
END:VCALENDAR
