BEGIN:VCALENDAR
VERSION:2.0
CALSCALE:GREGORIAN
PRODID:-//Diputació de Barcelona//DibaCMS//EN
BEGIN:VEVENT
UID:5811
DTSTAMP:20260420T084201
DTSTART:20231222T200000
DTEND:20231222T210000
SUMMARY:Concert "Plaça Major", amb Fenya Rai!
LOCATION:C/ Josep Fornell, s/n 08231 Ullastrell
METHOD:PUBLISH
X-WR-CALNAME:ullastrell@ullastrell.cat
X-WR-TIMEZONE:Europe/Madrid
DESCRIPTION:Concert "Plaça Major", amb Fenya Rai!

Aquest grup vallenc nascut al 2015 irreverent, canalla i fresc, ens acostarà el cançoner popular versionant-lo als nostres temps, jugant amb els ritmes, harmonies i lletres crítiques, humorístiques i amb un punt de necessària mala llet. Despedim l'any passant una bona estona tot cantant i ballant!

URI:https://www.ullastrell.cat/actualitat/agenda/concert-placa-major-amb-fenya-rai.html
CLASS:PUBLIC
END:VEVENT
END:VCALENDAR
