BEGIN:VCALENDAR
VERSION:2.0
CALSCALE:GREGORIAN
PRODID:-//Diputació de Barcelona//DibaCMS//EN
BEGIN:VEVENT
UID:5816
DTSTAMP:20260420T061207
DTSTART:20231018T200000
DTEND:20231018T210000
SUMMARY:Ple ordinari 18 d'octubre 2023 
LOCATION:Sala de Plens 
METHOD:PUBLISH
X-WR-CALNAME:ullastrell@ullastrell.cat
X-WR-TIMEZONE:Europe/Madrid
DESCRIPTION:Tipus de convocatòria: Ordinària
Data i hora: 18 d'octubre de 2023 a les 20:00

URI:https://www.ullastrell.cat/actualitat/agenda/ple-ordinari-18-doctubre-2023-.html
CLASS:PUBLIC
END:VEVENT
END:VCALENDAR
