BEGIN:VCALENDAR
VERSION:2.0
CALSCALE:GREGORIAN
PRODID:-//Diputació de Barcelona//DibaCMS//EN
BEGIN:VEVENT
UID:5820
DTSTAMP:20260420T031444
DTSTART:20231024T190000
DTEND:20231024T200000
SUMMARY:Presentació del llibre "París érem nosaltres" d'Andreu Claret
LOCATION:C/ Josep Fornell, s/n 08231 Ullastrell
METHOD:PUBLISH
X-WR-CALNAME:ullastrell@ullastrell.cat
X-WR-TIMEZONE:Europe/Madrid
DESCRIPTION:Presentació a càrrec de Rosa Massagué

URI:https://www.ullastrell.cat/actualitat/agenda/5820-presentacio-del-llibre-paris-erem-nosaltres-dandreu-claret.html
CLASS:PUBLIC
END:VEVENT
END:VCALENDAR
