BEGIN:VCALENDAR
VERSION:2.0
CALSCALE:GREGORIAN
PRODID:-//Diputació de Barcelona//DibaCMS//EN
BEGIN:VEVENT
UID:5827
DTSTAMP:20260420T041520
DTSTART:20231108T180000
DTEND:20231108T193000
SUMMARY:Taller de Sushi a l'Espai Jove
LOCATION:Plaça de les escoles, 1 08231 Ullastrell
METHOD:PUBLISH
X-WR-CALNAME:ullastrell@ullastrell.cat
X-WR-TIMEZONE:Europe/Madrid
DESCRIPTION:Taller de cuina

De 12 a 16 anys - 18h a 19:30h

URI:https://www.ullastrell.cat/actualitat/agenda/taller-de-sushi-a-lespai-jove.html
CLASS:PUBLIC
END:VEVENT
END:VCALENDAR
