BEGIN:VCALENDAR
VERSION:2.0
CALSCALE:GREGORIAN
PRODID:-//Diputació de Barcelona//DibaCMS//EN
BEGIN:VEVENT
UID:5828
DTSTAMP:20260420T054040
DTSTART:20231115T180000
DTEND:20231115T200000
SUMMARY:Mural i grafitti a l'Espai Jove 
LOCATION:Plaça de les escoles, 1 08231 Ullastrell
METHOD:PUBLISH
X-WR-CALNAME:ullastrell@ullastrell.cat
X-WR-TIMEZONE:Europe/Madrid
DESCRIPTION:Repensa les parets de l'Espai Jove

Activitat de 3 sessions per joves de 12 a 29 anys

 

URI:https://www.ullastrell.cat/actualitat/agenda/mural-i-grafitti-a-lespai-jove-.html
CLASS:PUBLIC
END:VEVENT
END:VCALENDAR
