BEGIN:VCALENDAR
VERSION:2.0
CALSCALE:GREGORIAN
PRODID:-//Diputació de Barcelona//DibaCMS//EN
BEGIN:VEVENT
UID:5829
DTSTAMP:20260420T025207
DTSTART:20231130T173000
DTEND:20231130T203000
SUMMARY:Taller de curtmetratge
LOCATION:Plaça de les escoles, 1 08231 Ullastrell
METHOD:PUBLISH
X-WR-CALNAME:ullastrell@ullastrell.cat
X-WR-TIMEZONE:Europe/Madrid
DESCRIPTION:Crea el teu propi curtmetratge, amb professionals i càmeres

Per a joves de 12 a 16 anys

URI:https://www.ullastrell.cat/actualitat/agenda/taller-de-curtmetratge.html
CLASS:PUBLIC
END:VEVENT
END:VCALENDAR
