BEGIN:VCALENDAR
VERSION:2.0
CALSCALE:GREGORIAN
PRODID:-//Diputació de Barcelona//DibaCMS//EN
BEGIN:VEVENT
UID:5832
DTSTAMP:20260420T041639
DTSTART:20231118T090000
DTEND:20231118T130000
SUMMARY:Visita al centre de tractament de residus
LOCATION:08231 Ullastrell
METHOD:PUBLISH
X-WR-CALNAME:ullastrell@ullastrell.cat
X-WR-TIMEZONE:Europe/Madrid
DESCRIPTION:Setmana Europea de la prevenció de residus

Descobreix a on va a parar el rebuig que generem entre tots en una interessant visita guiada al CTR del Vallès Occidental a Vacarisses.

URI:https://www.ullastrell.cat/actualitat/agenda/visita-al-centre-de-tractament-de-residus.html
CLASS:PUBLIC
END:VEVENT
END:VCALENDAR
