BEGIN:VCALENDAR
VERSION:2.0
CALSCALE:GREGORIAN
PRODID:-//Diputació de Barcelona//DibaCMS//EN
BEGIN:VEVENT
UID:5836
DTSTAMP:20260420T025147
DTSTART:20231118T120000
DTEND:20231118T130000
SUMMARY:Cercle de percussió amb instruments reciclats
LOCATION:C/ Serra, 17 08231 Ullastrell
METHOD:PUBLISH
X-WR-CALNAME:ullastrell@ullastrell.cat
X-WR-TIMEZONE:Europe/Madrid
DESCRIPTION:Setmana Europea de prevenció de residus

Participa al taller i deixa't portar pel ritme!!!

 

URI:https://www.ullastrell.cat/actualitat/agenda/cercle-de-percussio-amb-instruments-reciclats.html
CLASS:PUBLIC
END:VEVENT
END:VCALENDAR
