BEGIN:VCALENDAR
VERSION:2.0
CALSCALE:GREGORIAN
PRODID:-//Diputació de Barcelona//DibaCMS//EN
BEGIN:VEVENT
UID:5838
DTSTAMP:20260420T084616
DTSTART:20231111T080000
DTEND:20231111T160000
SUMMARY:Batuda de senglars 
LOCATION:
METHOD:PUBLISH
X-WR-CALNAME:ullastrell@ullastrell.cat
X-WR-TIMEZONE:Europe/Madrid
DESCRIPTION: 

Dissabte 11 de novembre la Societat de Caçadors Amics Caçadors del Casal d'Ullastrell, farà una batuda autoritzada del senglar a les zones de Can Costa, Masvalls, el Pillar i la Roureda.

Des de les 8:00h a les 16:00h

 

Lloc: Terme municipal

Organitzador: Societat de Caçadors Amics Caçadors del Casal d'Ullastrell

URI:https://www.ullastrell.cat/actualitat/agenda/batuda-de-senglars-.html
CLASS:PUBLIC
END:VEVENT
END:VCALENDAR
