BEGIN:VCALENDAR
VERSION:2.0
CALSCALE:GREGORIAN
PRODID:-//Diputació de Barcelona//DibaCMS//EN
BEGIN:VEVENT
UID:5839
DTSTAMP:20260420T053741
DTSTART:20231116T183000
DTEND:20231116T193000
SUMMARY:Xerrada literària amb Cristina Fallaràs
LOCATION:C/ Josep Fornell, s/n 08231 Ullastrell
METHOD:PUBLISH
X-WR-CALNAME:ullastrell@ullastrell.cat
X-WR-TIMEZONE:Europe/Madrid
DESCRIPTION:Compartim amb aquesta escriptora i periodista l'activisme per la defensa dels drets de les dones, a través de la seva biografia.

URI:https://www.ullastrell.cat/actualitat/agenda/xerrada-literaria-amb-cristina-fallaras.html
CLASS:PUBLIC
END:VEVENT
END:VCALENDAR
