BEGIN:VCALENDAR
VERSION:2.0
CALSCALE:GREGORIAN
PRODID:-//Diputació de Barcelona//DibaCMS//EN
BEGIN:VEVENT
UID:5840
DTSTAMP:20260420T054835
DTSTART:20231125T110000
DTEND:20231125T120000
SUMMARY:Espectacle "Viatge al món dels contes" amb Trama.coop
LOCATION:C/ Josep Fornell, s/n 08231 Ullastrell
METHOD:PUBLISH
X-WR-CALNAME:ullastrell@ullastrell.cat
X-WR-TIMEZONE:Europe/Madrid
DESCRIPTION:A l'Àlex i la Berta no els agraden els contes que coneixen i decideixen crear-ne de nous. Per fer-ho, viatjarem al Món dels Contes, on coneixerem els personatges de les històries que ens explicaran una altra versió del seu conte.

URI:https://www.ullastrell.cat/actualitat/agenda/espectacle-viatge-al-mon-dels-contes-amb-tramacoop.html
CLASS:PUBLIC
END:VEVENT
END:VCALENDAR
