BEGIN:VCALENDAR
VERSION:2.0
CALSCALE:GREGORIAN
PRODID:-//Diputació de Barcelona//DibaCMS//EN
BEGIN:VEVENT
UID:5841
DTSTAMP:20260420T031154
DTSTART:20231125T173000
DTEND:20231125T183000
SUMMARY:Lectura de Manifest i xerrada amb "Proyecto UNA": Violència masclista i cultura pop 
LOCATION:C/ Josep Fornell, s/n 08231 Ullastrell
METHOD:PUBLISH
X-WR-CALNAME:ullastrell@ullastrell.cat
X-WR-TIMEZONE:Europe/Madrid
DESCRIPTION:"Leia, Rihanna & Trump" és el títol del llibre que presenta Proyecto UNA, una col·lectivitat mil·lenial que té com a missió desemmascarar les noves formes de feixisme que s'amaguen sota simbologia aparentment inofensiva, així com reconèixer i donar valor a les aliances feministes forjades a l'escalf dels píxels. 

URI:https://www.ullastrell.cat/actualitat/agenda/lectura-de-manifest-i-xerrada-amb-proyecto-una-violencia-masclista-i-cultura-pop-.html
CLASS:PUBLIC
END:VEVENT
END:VCALENDAR
