BEGIN:VCALENDAR
VERSION:2.0
CALSCALE:GREGORIAN
PRODID:-//Diputació de Barcelona//DibaCMS//EN
BEGIN:VEVENT
UID:5849
DTSTAMP:20260420T053948
DTSTART:20231202T183000
DTEND:20231202T200000
SUMMARY:PARLEM DE LLIBRES - SI UNA TARDA DE JULIOL UN BORINOT de Pep Puig
LOCATION:C/ Serra 37 08231 Ullastrell
METHOD:PUBLISH
X-WR-CALNAME:ullastrell@ullastrell.cat
X-WR-TIMEZONE:Europe/Madrid
DESCRIPTION:Tarda de juliol. Sabateria de poble. De cop entra a la botiga un foraster, un home gran, d’aparença misteriosa. La mestressa en aquests moments no hi és...

 

URI:https://www.ullastrell.cat/actualitat/agenda/parlem-de-llibres-si-una-tarda-de-juliol-un-borinot-de-pep-puig.html
CLASS:PUBLIC
END:VEVENT
END:VCALENDAR
