BEGIN:VCALENDAR
VERSION:2.0
CALSCALE:GREGORIAN
PRODID:-//Diputació de Barcelona//DibaCMS//EN
BEGIN:VEVENT
UID:5853
DTSTAMP:20260420T053854
DTSTART:20231129T200000
DTEND:20231129T210000
SUMMARY:Ple extraordinari 29 de novembre de 2023  
LOCATION:
METHOD:PUBLISH
X-WR-CALNAME:ullastrell@ullastrell.cat
X-WR-TIMEZONE:Europe/Madrid
DESCRIPTION:Tipus de convocatòria: Extraordinària

URI:https://www.ullastrell.cat/actualitat/agenda/ple-extraordinari-29-de-novembre-de-2023-.html
CLASS:PUBLIC
END:VEVENT
END:VCALENDAR
