BEGIN:VCALENDAR
VERSION:2.0
CALSCALE:GREGORIAN
PRODID:-//Diputació de Barcelona//DibaCMS//EN
BEGIN:VEVENT
UID:5857
DTSTAMP:20260420T025045
DTSTART:20231204T190000
DTEND:20231204T200000
SUMMARY:El Club de lectura: Com afrontar el final de vida 
LOCATION:C/ Josep Fornell, s/n 08231 Ullastrell
METHOD:PUBLISH
X-WR-CALNAME:ullastrell@ullastrell.cat
X-WR-TIMEZONE:Europe/Madrid
DESCRIPTION:Al fil de L'acabadora de Michela Murgia: Com afrontar el final de vida

URI:https://www.ullastrell.cat/actualitat/agenda/el-club-de-lectura-com-afrontar-el-final-de-vida-.html
CLASS:PUBLIC
END:VEVENT
END:VCALENDAR
