BEGIN:VCALENDAR
VERSION:2.0
CALSCALE:GREGORIAN
PRODID:-//Diputació de Barcelona//DibaCMS//EN
BEGIN:VEVENT
UID:5863
DTSTAMP:20260420T014918
DTSTART:20231214T090000
DTEND:20231214T100000
SUMMARY:Servei de consulta de MINA Aigües de Terrassa
LOCATION:C/ Serra, 17 08231 Ullastrell
METHOD:PUBLISH
X-WR-CALNAME:ullastrell@ullastrell.cat
X-WR-TIMEZONE:Europe/Madrid
DESCRIPTION:Servei de Consulta de MINA Aigües de Terrassa

URI:https://www.ullastrell.cat/actualitat/agenda/servei-de-consulta-de-mina-aigues-de-terrassa.html
CLASS:PUBLIC
END:VEVENT
END:VCALENDAR
