BEGIN:VCALENDAR
VERSION:2.0
CALSCALE:GREGORIAN
PRODID:-//Diputació de Barcelona//DibaCMS//EN
BEGIN:VEVENT
UID:5864
DTSTAMP:20260420T014934
DTSTART:20231216T110000
DTEND:20231216T193000
SUMMARY:FIRA DE SANTA LLÚCIA 
LOCATION:Davant de l'Ajuntament 
METHOD:PUBLISH
X-WR-CALNAME:ullastrell@ullastrell.cat
X-WR-TIMEZONE:Europe/Madrid
DESCRIPTION:Tradicional fira amb entitats solidàries i culturals i música ambient. Jocs infantils, Cantada de nadales de la mà de La Coral d'Ullastrell, Bar a càrrec dels Diables d'Ullastrell, xocolatada a càrrec d'Ullastrell Solidari, performance matinal "Antenes en tens. Dones que transformen", i molt més!

 

URI:https://www.ullastrell.cat/actualitat/agenda/5864-fira-de-santa-llucia-.html
CLASS:PUBLIC
END:VEVENT
END:VCALENDAR
