BEGIN:VCALENDAR
VERSION:2.0
CALSCALE:GREGORIAN
PRODID:-//Diputació de Barcelona//DibaCMS//EN
BEGIN:VEVENT
UID:5865
DTSTAMP:20260420T014953
DTSTART:20231217T110000
DTEND:20231217T180000
SUMMARY:Fira de vins naturals d'Ullastrell
LOCATION:
METHOD:PUBLISH
X-WR-CALNAME:ullastrell@ullastrell.cat
X-WR-TIMEZONE:Europe/Madrid
DESCRIPTION:Vine a descobrir vins naturals, música en directe, gastronomia i molt més!

 

URI:https://www.ullastrell.cat/actualitat/agenda/fira-de-vins-naturals-dullastrell.html
CLASS:PUBLIC
END:VEVENT
END:VCALENDAR
