BEGIN:VCALENDAR
VERSION:2.0
CALSCALE:GREGORIAN
PRODID:-//Diputació de Barcelona//DibaCMS//EN
BEGIN:VEVENT
UID:5871
DTSTAMP:20260420T025238
DTSTART:20231226T193000
DTEND:20231226T210000
SUMMARY:CONCERT CORAL ULLASTRELL - 2023
LOCATION:C/ Josep Fornell, s/n 08231 Ullastrell
METHOD:PUBLISH
X-WR-CALNAME:ullastrell@ullastrell.cat
X-WR-TIMEZONE:Europe/Madrid
DESCRIPTION:La Coral d'Ullastrell us convida a venir al Concert de Sant Esteve.
 

URI:https://www.ullastrell.cat/actualitat/agenda/concert-coral-ullastrell-2023.html
CLASS:PUBLIC
END:VEVENT
END:VCALENDAR
