BEGIN:VCALENDAR
VERSION:2.0
CALSCALE:GREGORIAN
PRODID:-//Diputació de Barcelona//DibaCMS//EN
BEGIN:VEVENT
UID:5872
DTSTAMP:20260420T012844
DTSTART:20231225T200000
DTEND:20231225T220000
SUMMARY:TEATRE GATU: Geronimo Stilton i Mary Poppins
LOCATION:C/ Josep Fornell, s/n 08231 Ullastrell
METHOD:PUBLISH
X-WR-CALNAME:ullastrell@ullastrell.cat
X-WR-TIMEZONE:Europe/Madrid
DESCRIPTION:Obra de teatre protagonitzada pel Grup Amics de Teatre d'Ullastrell (GATU) dins la 35ª Mostra de Teatre - V Memorial Roser Anglada

URI:https://www.ullastrell.cat/actualitat/agenda/teatre-gatu-geronimo-stilton-i-mary-poppins.html
CLASS:PUBLIC
END:VEVENT
END:VCALENDAR
