BEGIN:VCALENDAR
VERSION:2.0
CALSCALE:GREGORIAN
PRODID:-//Diputació de Barcelona//DibaCMS//EN
BEGIN:VEVENT
UID:5876
DTSTAMP:20260420T013151
DTSTART:20240105T110000
DTEND:20240105T130000
SUMMARY:Esquellots 2024
LOCATION:C/ Serra, 17 08231 Ullastrell
METHOD:PUBLISH
X-WR-CALNAME:ullastrell@ullastrell.cat
X-WR-TIMEZONE:Europe/Madrid
DESCRIPTION:Vine a fer els Esquellots per avisar als Reis i Reines d'Orient

Amb la visita de la Patge Becaruda!

URI:https://www.ullastrell.cat/actualitat/agenda/esquellots-2024.html
CLASS:PUBLIC
END:VEVENT
END:VCALENDAR
