BEGIN:VCALENDAR
VERSION:2.0
CALSCALE:GREGORIAN
PRODID:-//Diputació de Barcelona//DibaCMS//EN
BEGIN:VEVENT
UID:5877
DTSTAMP:20260420T084458
DTSTART:20240105T180000
DTEND:20240105T200000
SUMMARY:Benvinguda de les Reines i Reis Mags a Ullastrell 
LOCATION:
METHOD:PUBLISH
X-WR-CALNAME:ullastrell@ullastrell.cat
X-WR-TIMEZONE:Europe/Madrid
DESCRIPTION:Punt d'Inici: Parc de Can Gras a la Carretera d'Olesa BV-1202

Rebrem i acompanyarem a SSMM els Reis i Reines d'Orient, fins a la Pça Montmany (Celler d'Ullastrell), on tots els nens i nenes podran entregar les seves cartes.

URI:https://www.ullastrell.cat/actualitat/agenda/benvinguda-de-les-reines-i-reis-mags-a-ullastrell-.html
CLASS:PUBLIC
END:VEVENT
END:VCALENDAR
