BEGIN:VCALENDAR
VERSION:2.0
CALSCALE:GREGORIAN
PRODID:-//Diputació de Barcelona//DibaCMS//EN
BEGIN:VEVENT
UID:5885
DTSTAMP:20260420T085827
DTSTART:20240119T170000
DTEND:20240119T180000
SUMMARY:ESPAI DE JOCS AMB JUGAIA
LOCATION:C/ Josep Fornell, s/n 08231 Ullastrell
METHOD:PUBLISH
X-WR-CALNAME:ullastrell@ullastrell.cat
X-WR-TIMEZONE:Europe/Madrid
DESCRIPTION:divendres 19 de gener Espais de joc amb Jugaia.

 

Espai sensorial de joc amb llum i foscor per a infants de 0 a 5 anys. Espai de construcció creativa amb Tomtec per a infants de 5 a 10 anys. Lloc: Biblioteca Josep Massagué Hora: 17 h A càrrec de: Jugaia

URI:https://www.ullastrell.cat/actualitat/agenda/espai-de-jocs-amb-jugaia.html
CLASS:PUBLIC
END:VEVENT
END:VCALENDAR
