BEGIN:VCALENDAR
VERSION:2.0
CALSCALE:GREGORIAN
PRODID:-//Diputació de Barcelona//DibaCMS//EN
BEGIN:VEVENT
UID:5888
DTSTAMP:20260420T071143
DTSTART:20240125T210000
DTEND:20240125T223000
SUMMARY:JOCS DE TAULA +16 anys
LOCATION:C/ Josep Fornell, s/n 08231 Ullastrell
METHOD:PUBLISH
X-WR-CALNAME:ullastrell@ullastrell.cat
X-WR-TIMEZONE:Europe/Madrid
DESCRIPTION:A càrrec de Jugar X Jugar

URI:https://www.ullastrell.cat/actualitat/agenda/jocs-de-taula-16-anys.html
CLASS:PUBLIC
END:VEVENT
END:VCALENDAR
