BEGIN:VCALENDAR
VERSION:2.0
CALSCALE:GREGORIAN
PRODID:-//Diputació de Barcelona//DibaCMS//EN
BEGIN:VEVENT
UID:5889
DTSTAMP:20260420T013027
DTSTART:20240126T200000
DTEND:20240126T210000
SUMMARY:INAUGURACIÓ DE LA 12 FIRA DE L'OLI D'ULLASTRELL 
LOCATION:El Celler 
METHOD:PUBLISH
X-WR-CALNAME:ullastrell@ullastrell.cat
X-WR-TIMEZONE:Europe/Madrid
DESCRIPTION:Donarem el tret de sortida amb diverses activitats obertes a tota la població i el tradicional Concurs de tast d’oli popular amb l’oli dels productors locals.

URI:https://www.ullastrell.cat/actualitat/agenda/inauguracio-de-la-12-fira-de-loli-dullastrell-.html
CLASS:PUBLIC
END:VEVENT
END:VCALENDAR
