BEGIN:VCALENDAR
VERSION:2.0
CALSCALE:GREGORIAN
PRODID:-//Diputació de Barcelona//DibaCMS//EN
BEGIN:VEVENT
UID:5890
DTSTAMP:20260420T041617
DTSTART:20240128T100000
DTEND:20240128T180000
SUMMARY:12a FIRA DE L'OLI D'OLIVA D'ULLASTRELL 
LOCATION:Plaça Joan Montmany / Carrer Serra  
METHOD:PUBLISH
X-WR-CALNAME:ullastrell@ullastrell.cat
X-WR-TIMEZONE:Europe/Madrid
DESCRIPTION:Enguany gaudirem de la 12ª edició de la ja tradicional Fira de l'Oli i l'Oliva on productors locals i convidats ens mostraran una gran varietat de productes relacionats amb l'oli i derivats de l'oliva. Us hi esperem! Veure cartellera específica.

URI:https://www.ullastrell.cat/actualitat/agenda/12a-fira-de-loli-doliva-dullastrell-.html
CLASS:PUBLIC
END:VEVENT
END:VCALENDAR
