BEGIN:VCALENDAR
VERSION:2.0
CALSCALE:GREGORIAN
PRODID:-//Diputació de Barcelona//DibaCMS//EN
BEGIN:VEVENT
UID:5891
DTSTAMP:20260420T025543
DTSTART:20240127T173000
DTEND:20240127T190000
SUMMARY:Excursió oliveres centenàries
LOCATION:Sortida des del Casal Cultural.  
METHOD:PUBLISH
X-WR-CALNAME:ullastrell@ullastrell.cat
X-WR-TIMEZONE:Europe/Madrid
DESCRIPTION:Organitza Associació de Productors d’Oli d’Ullastrell, Grup de Muntanya i Ajuntament d’Ullastrell

Guiat per Pere Palet

URI:https://www.ullastrell.cat/actualitat/agenda/excursio-oliveres-centenaries.html
CLASS:PUBLIC
END:VEVENT
END:VCALENDAR
