BEGIN:VCALENDAR
VERSION:2.0
CALSCALE:GREGORIAN
PRODID:-//Diputació de Barcelona//DibaCMS//EN
BEGIN:VEVENT
UID:5892
DTSTAMP:20260420T085407
DTSTART:20240125T190000
DTEND:20240125T203000
SUMMARY:JORNADA TÈCNICA. 
LOCATION:C/ Serra 37 08231 Ullastrell
METHOD:PUBLISH
X-WR-CALNAME:ullastrell@ullastrell.cat
X-WR-TIMEZONE:Europe/Madrid
DESCRIPTION:Dins de la 12ª Fira de l'Oli

Conferència: Avantatges de la nutrició foliar i càlcul de la petjada de carboni en l’olivar.

URI:https://www.ullastrell.cat/actualitat/agenda/jornada-tecnica-.html
CLASS:PUBLIC
END:VEVENT
END:VCALENDAR
