BEGIN:VCALENDAR
VERSION:2.0
CALSCALE:GREGORIAN
PRODID:-//Diputació de Barcelona//DibaCMS//EN
BEGIN:VEVENT
UID:5893
DTSTAMP:20260420T144250
DTSTART:20240128T183000
DTEND:20240128T200000
SUMMARY:MOSTRA DE TEATRE: Una mort darrera la porta
LOCATION:C/ Josep Fornell, s/n 08231 Ullastrell
METHOD:PUBLISH
X-WR-CALNAME:ullastrell@ullastrell.cat
X-WR-TIMEZONE:Europe/Madrid
DESCRIPTION:Amb la companyia Els Amics de les Arts dins la 35a Mostra de Teatre -

V Memorial Roser Anglada.

 

 

URI:https://www.ullastrell.cat/actualitat/agenda/mostra-de-teatre-una-mort-darrera-la-porta.html
CLASS:PUBLIC
END:VEVENT
END:VCALENDAR
