BEGIN:VCALENDAR
VERSION:2.0
CALSCALE:GREGORIAN
PRODID:-//Diputació de Barcelona//DibaCMS//EN
BEGIN:VEVENT
UID:5894
DTSTAMP:20260420T053841
DTSTART:20240131T180000
DTEND:20240131T190000
SUMMARY:PARLEM DE LLIBRES amb Marisol Anguita López i Juanjo López
LOCATION:C/ Serra 37 08231 Ullastrell
METHOD:PUBLISH
X-WR-CALNAME:ullastrell@ullastrell.cat
X-WR-TIMEZONE:Europe/Madrid
DESCRIPTION:La mestra en educació infantil de l'escola Serralavella Marisol Anguita i el Juanjo López, exdirector, ens venen a presentar el llibre Una pedagogía desobediente. Tejer la vida del aula y de la escuela desde proyectos de indagación.

 

URI:https://www.ullastrell.cat/actualitat/agenda/parlem-de-llibres-amb-marisol-anguita-lopez-i-juanjo-lopez.html
CLASS:PUBLIC
END:VEVENT
END:VCALENDAR
