BEGIN:VCALENDAR
VERSION:2.0
CALSCALE:GREGORIAN
PRODID:-//Diputació de Barcelona//DibaCMS//EN
BEGIN:VEVENT
UID:5895
DTSTAMP:20260420T013114
DTSTART:20240202T170000
DTEND:20240202T180000
SUMMARY:Dia d'escacs   
LOCATION:C/ Josep Fornell, s/n 08231 Ullastrell
METHOD:PUBLISH
X-WR-CALNAME:ullastrell@ullastrell.cat
X-WR-TIMEZONE:Europe/Madrid
DESCRIPTION:Dia d'escacs

Vine a gaudir i jugar a escacs amb gent de totes les edats.

URI:https://www.ullastrell.cat/actualitat/agenda/5895-dia-descacs-.html
CLASS:PUBLIC
END:VEVENT
END:VCALENDAR
