BEGIN:VCALENDAR
VERSION:2.0
CALSCALE:GREGORIAN
PRODID:-//Diputació de Barcelona//DibaCMS//EN
BEGIN:VEVENT
UID:5896
DTSTAMP:20260420T070345
DTSTART:20240208T170000
DTEND:20240208T190000
SUMMARY:Club de lectura amb Rosa Massagué  
LOCATION:C/ Josep Fornell, s/n 08231 Ullastrell
METHOD:PUBLISH
X-WR-CALNAME:ullastrell@ullastrell.cat
X-WR-TIMEZONE:Europe/Madrid
DESCRIPTION:Endinsa't en el gran plaer de la lectura de la mà d'aquesta periodista i escritora ullastrellenca que ens guiarà en la lectura de tres propostes literàries. En aquesta sessió comentarem "Fouché, retrat d'un home polític", de Stefan Zweig.

 

 

URI:https://www.ullastrell.cat/actualitat/agenda/5896-club-de-lectura-amb-rosa-massague-.html
CLASS:PUBLIC
END:VEVENT
END:VCALENDAR
