BEGIN:VCALENDAR
VERSION:2.0
CALSCALE:GREGORIAN
PRODID:-//Diputació de Barcelona//DibaCMS//EN
BEGIN:VEVENT
UID:5897
DTSTAMP:20260420T070136
DTSTART:20240211T120000
DTEND:20240211T140000
SUMMARY:Carnestoltes
LOCATION:Plaça de les Escoles 
METHOD:PUBLISH
X-WR-CALNAME:ullastrell@ullastrell.cat
X-WR-TIMEZONE:Europe/Madrid
DESCRIPTION:Gaudirem d’un espectacle d’animació i ball per a criatures i joves, i moltes sorpreses més.

URI:https://www.ullastrell.cat/actualitat/agenda/5897-carnestoltes.html
CLASS:PUBLIC
END:VEVENT
END:VCALENDAR
