BEGIN:VCALENDAR
VERSION:2.0
CALSCALE:GREGORIAN
PRODID:-//Diputació de Barcelona//DibaCMS//EN
BEGIN:VEVENT
UID:5908
DTSTAMP:20260420T002752
DTSTART:20240306T100000
DTEND:20240310T150000
SUMMARY:FESTES DE SERRALAVELLA 
LOCATION:Carrer Serra 
METHOD:PUBLISH
X-WR-CALNAME:ullastrell@ullastrell.cat
X-WR-TIMEZONE:Europe/Madrid
DESCRIPTION:La Serralavella, celebrada el quart dimecres de Quaresma, s’ha reconvertit en una festa moderna, amb l’origen en el passat que suposava un descans pels infants enmig de la Quaresma. Amb cistells, troncs i xerracs, les criatures canten casa per casa, simbolitzant serrar la Vella Quaresma pel mig. Després, reparteixen ous, ametlles, dolços i diners. Us convidem a unir-vos a aquesta tradició festiva i tan nostra!

URI:https://www.ullastrell.cat/actualitat/agenda/festes-de-serralavella-.html
CLASS:PUBLIC
END:VEVENT
END:VCALENDAR
