BEGIN:VCALENDAR
VERSION:2.0
CALSCALE:GREGORIAN
PRODID:-//Diputació de Barcelona//DibaCMS//EN
BEGIN:VEVENT
UID:5909
DTSTAMP:20260420T011129
DTSTART:20240308T123000
DTEND:20240308T130000
SUMMARY:LECTURA DEL MANIFEST 
LOCATION:C/ Serra, 17 08231 Ullastrell
METHOD:PUBLISH
X-WR-CALNAME:ullastrell@ullastrell.cat
X-WR-TIMEZONE:Europe/Madrid
DESCRIPTION:Es llegirà un manifest pel 8M - Dia Internacional de la Dona.

URI:https://www.ullastrell.cat/actualitat/agenda/lectura-del-manifest-.html
CLASS:PUBLIC
END:VEVENT
END:VCALENDAR
