BEGIN:VCALENDAR
VERSION:2.0
CALSCALE:GREGORIAN
PRODID:-//Diputació de Barcelona//DibaCMS//EN
BEGIN:VEVENT
UID:5910
DTSTAMP:20260419T235901
DTSTART:20240312T190000
DTEND:20240312T200000
SUMMARY:Pensadors que es van anticipar al seu temps
LOCATION:C/ Josep Fornell, s/n 08231 Ullastrell
METHOD:PUBLISH
X-WR-CALNAME:ullastrell@ullastrell.cat
X-WR-TIMEZONE:Europe/Madrid
DESCRIPTION:Dins dels actes de celebració del 8M

Víctor Manuel Sánchez, editor de la col·lecció Pensamiento Libre, presentarà, amb l’acompanyament de la Rosa Massagué, obres d’autors que al seu moment no es van adherir als dogmes establerts. Fa més de dos segles, el marquès de Condorcet ja reclamava la plenitud de drets per a les dones. Edward Carpenter es va anticipar en la defensa dels drets i llibertats dels col·lectius LGTBI+.

URI:https://www.ullastrell.cat/actualitat/agenda/pensadors-que-es-van-anticipar-al-seu-temps.html
CLASS:PUBLIC
END:VEVENT
END:VCALENDAR
