BEGIN:VCALENDAR
VERSION:2.0
CALSCALE:GREGORIAN
PRODID:-//Diputació de Barcelona//DibaCMS//EN
BEGIN:VEVENT
UID:5911
DTSTAMP:20260420T012947
DTSTART:20240313T170000
DTEND:20240313T180000
SUMMARY:CONTE VA CONTE VE: LA CRISSPETA
LOCATION:C/ Josep Fornell, s/n 08231 Ullastrell
METHOD:PUBLISH
X-WR-CALNAME:ullastrell@ullastrell.cat
X-WR-TIMEZONE:Europe/Madrid
DESCRIPTION:Els contes ens poden ajudar a canviar el món: la Crisspeta ens acompanyarà a imaginar un món més just.

URI:https://www.ullastrell.cat/actualitat/agenda/conte-va-conte-ve-la-crisspeta.html
CLASS:PUBLIC
END:VEVENT
END:VCALENDAR
