BEGIN:VCALENDAR
VERSION:2.0
CALSCALE:GREGORIAN
PRODID:-//Diputació de Barcelona//DibaCMS//EN
BEGIN:VEVENT
UID:5912
DTSTAMP:20260419T235730
DTSTART:20240310T100000
DTEND:20240310T150000
SUMMARY:FIRA DE SERRALAVELLA 
LOCATION:Carrer Serra 
METHOD:PUBLISH
X-WR-CALNAME:ullastrell@ullastrell.cat
X-WR-TIMEZONE:Europe/Madrid
DESCRIPTION:
URI:https://www.ullastrell.cat/actualitat/agenda/fira-de-serralavella-.html
CLASS:PUBLIC
END:VEVENT
END:VCALENDAR
