BEGIN:VCALENDAR
VERSION:2.0
CALSCALE:GREGORIAN
PRODID:-//Diputació de Barcelona//DibaCMS//EN
BEGIN:VEVENT
UID:5915
DTSTAMP:20260420T000822
DTSTART:20240321T210000
DTEND:20240321T220000
SUMMARY:JOCS DE TAULA +16 amb Jugar x Jugar
LOCATION:C/ Josep Fornell, s/n 08231 Ullastrell
METHOD:PUBLISH
X-WR-CALNAME:ullastrell@ullastrell.cat
X-WR-TIMEZONE:Europe/Madrid
DESCRIPTION:Sessió especial de jocs de taula dedicada als adults. Us esperem per gaudir d'una estona de joc compartida.

A càrrec de Jugar X Jugar

URI:https://www.ullastrell.cat/actualitat/agenda/5915-jocs-de-taula-16-amb-jugar-x-jugar.html
CLASS:PUBLIC
END:VEVENT
END:VCALENDAR
